BEGIN:VCALENDAR
VERSION:2.0
PRODID:-//Plone.org//NONSGML plone.app.event//EN
X-WR-TIMEZONE:Europe/Madrid
BEGIN:VEVENT
SUMMARY:Taller de dances del S.XVIII
DTSTART;TZID=Europe/Madrid;VALUE=DATE-TIME:20140720T180000
DTEND;TZID=Europe/Madrid;VALUE=DATE-TIME:20140720T190000
DTSTAMP;VALUE=DATE-TIME:20260424T200734Z
UID:36c47b5323fc94d707d81e3fe86307c6
CREATED;VALUE=DATE-TIME:20140720T000000Z
CATEGORIES:Dansa
LOCATION:Esplanada Can Muntanyà
COMMENT:Preu: Gratuït
DESCRIPTION:activitat oberta a tothom
URL:https://caldetes.cat/document.php?id=3011
END:VEVENT
END:VCALENDAR