BEGIN:VCALENDAR
VERSION:2.0
PRODID:-//Plone.org//NONSGML plone.app.event//EN
X-WR-TIMEZONE:Europe/Madrid
BEGIN:VEVENT
SUMMARY:Missa Mare de Déu del Carme
DTSTART;TZID=Europe/Madrid;VALUE=DATE-TIME:20140716T190000
DTEND;TZID=Europe/Madrid;VALUE=DATE-TIME:20140716T200000
DTSTAMP;VALUE=DATE-TIME:20260421T082319Z
UID:5cd2bc7568eb455f928ff3566c078f7b
CREATED;VALUE=DATE-TIME:20140716T000000Z
LOCATION:Capella del Carme
DESCRIPTION:Missa en commemoració a la Mare de Déu del Carme
URL:https://caldetes.cat/document.php?id=3013
END:VEVENT
END:VCALENDAR