BEGIN:VCALENDAR
VERSION:2.0
PRODID:-//Plone.org//NONSGML plone.app.event//EN
X-WR-TIMEZONE:Europe/Madrid
BEGIN:VEVENT
SUMMARY:Taller de la memòria a través del joc
DTSTART;TZID=Europe/Madrid;VALUE=DATE-TIME:20141118T100000
DTEND;TZID=Europe/Madrid;VALUE=DATE-TIME:20141118T110000
DTSTAMP;VALUE=DATE-TIME:20260422T002047Z
UID:6a95c85ad19904bf0482f603dd25df59
CREATED;VALUE=DATE-TIME:20141118T000000Z
CATEGORIES:Cursos
LOCATION:Casal d'Avis - Agrupació de pensionistes 3ª edat
ORGANIZER:LÀrea de Serveis Socials en col·laboaració amb Art i Joc
COMMENT:Preu: Entrada lliure
Durada: De 10 a 12h
DESCRIPTION:Taller per a gent gran
URL:https://caldetes.cat/document.php?id=3139
END:VEVENT
END:VCALENDAR