BEGIN:VCALENDAR
VERSION:2.0
PRODID:-//Plone.org//NONSGML plone.app.event//EN
X-WR-TIMEZONE:Europe/Madrid
BEGIN:VEVENT
SUMMARY:Taller de la memòria a través del joc
DTSTART;TZID=Europe/Madrid;VALUE=DATE-TIME:20141125T100000
DTEND;TZID=Europe/Madrid;VALUE=DATE-TIME:20141125T110000
DTSTAMP;VALUE=DATE-TIME:20260422T143755Z
UID:ba092457457bba5fff3400257c78fca8
CREATED;VALUE=DATE-TIME:20141125T000000Z
CATEGORIES:Cursos
LOCATION:Casal d'Avis - Agrupació de pensionistes 3ª edat
ORGANIZER:LÀrea de Serveis Socials en col·laboaració amb Art i Joc
COMMENT:Preu: Entrada lliure
Durada: De 10 a 12h
DESCRIPTION:Taller per a gent gran
URL:https://caldetes.cat/document.php?id=3140
END:VEVENT
END:VCALENDAR