BEGIN:VCALENDAR
VERSION:2.0
PRODID:-//Plone.org//NONSGML plone.app.event//EN
X-WR-TIMEZONE:Europe/Madrid
BEGIN:VEVENT
SUMMARY:Curs d'iniciació al català
DTSTART;TZID=Europe/Madrid;VALUE=DATE-TIME:20141006T180000
DTEND;TZID=Europe/Madrid;VALUE=DATE-TIME:20141006T190000
DTSTAMP;VALUE=DATE-TIME:20260423T074653Z
UID:3e4d9c606cd974069bdd2064443a1558
CREATED;VALUE=DATE-TIME:20141006T000000Z
LOCATION:L'Equipament (La Fabriqueta)
ORGANIZER:Serveis Socials (Ajuntament de Caldes d'Estrac)
COMMENT:Preu: Gratuït
Durada: 18:00 a 20:30h
DESCRIPTION:Places disponibles
URL:https://caldetes.cat/document.php?id=3188
END:VEVENT
END:VCALENDAR