BEGIN:VCALENDAR
VERSION:2.0
PRODID:-//Plone.org//NONSGML plone.app.event//EN
X-WR-TIMEZONE:Europe/Madrid
BEGIN:VEVENT
SUMMARY:ConteClub: Els contes clàssics
DTSTART;TZID=Europe/Madrid;VALUE=DATE-TIME:20141017T180000
DTEND;TZID=Europe/Madrid;VALUE=DATE-TIME:20141017T190000
DTSTAMP;VALUE=DATE-TIME:20260423T090006Z
UID:9a69b72ea4a9390ee43ed5c696b2325a
CREATED;VALUE=DATE-TIME:20141017T000000Z
CATEGORIES:Literatura,Infantils
LOCATION:Biblioteca Can Milans
ORGANIZER:Biblioteca Can Milans
DESCRIPTION:Espai de lectura dedicat als nens
URL:https://caldetes.cat/document.php?id=3191
END:VEVENT
END:VCALENDAR