BEGIN:VCALENDAR
VERSION:2.0
PRODID:-//Plone.org//NONSGML plone.app.event//EN
X-WR-TIMEZONE:Europe/Madrid
BEGIN:VEVENT
SUMMARY:7è Torneig Juvenil de Futbolí
DTSTART;TZID=Europe/Madrid;VALUE=DATE-TIME:20140926T170000
DTEND;TZID=Europe/Madrid;VALUE=DATE-TIME:20140926T180000
DTSTAMP;VALUE=DATE-TIME:20260422T001904Z
UID:e7f081e4d4c97121d0cf26790f754875
CREATED;VALUE=DATE-TIME:20140926T000000Z
CATEGORIES:Esports
LOCATION:Espai Jove
ORGANIZER:L'Espai Jove en col·laboració amb l'Ajuntament de Caldes d'Estrac
COMMENT:Durada: de 17 a 20h
DESCRIPTION:Segona jornada
URL:https://caldetes.cat/document.php?id=3231
END:VEVENT
END:VCALENDAR