BEGIN:VCALENDAR
VERSION:2.0
PRODID:-//Plone.org//NONSGML plone.app.event//EN
X-WR-TIMEZONE:Europe/Madrid
BEGIN:VEVENT
SUMMARY:Homenatge al President LLuis Companys
DTSTART;TZID=Europe/Madrid;VALUE=DATE-TIME:20141015T180000
DTEND;TZID=Europe/Madrid;VALUE=DATE-TIME:20141015T190000
DTSTAMP;VALUE=DATE-TIME:20260420T050810Z
UID:f11f67713bf6b38dadda010b879afd8f
CREATED;VALUE=DATE-TIME:20141015T000000Z
LOCATION:Davant del monument de Lluís Companys, a l'entrada del cementiri
DESCRIPTION:L'acte tindrà lloc el dimecres 15 a les 18h davant del monument de Lluís Companys situat al carrer del mateix nom a l'entrada del cementeri
URL:https://caldetes.cat/document.php?id=3333
END:VEVENT
END:VCALENDAR