BEGIN:VCALENDAR
VERSION:2.0
PRODID:-//Plone.org//NONSGML plone.app.event//EN
X-WR-TIMEZONE:Europe/Madrid
BEGIN:VEVENT
SUMMARY:Curs de Cuina Jove
DTSTART;TZID=Europe/Madrid;VALUE=DATE-TIME:20141104T180000
DTEND;TZID=Europe/Madrid;VALUE=DATE-TIME:20141104T190000
DTSTAMP;VALUE=DATE-TIME:20260424T173554Z
UID:b09a845ca7f8b45783c287e0c84674aa
CREATED;VALUE=DATE-TIME:20141104T000000Z
LOCATION:Espai jove
ORGANIZER:Espai Jove
COMMENT:Durada: de 18:00 a 20h
DESCRIPTION:A càrrec de Ruben Calvo
URL:https://caldetes.cat/document.php?id=3349
END:VEVENT
END:VCALENDAR