BEGIN:VCALENDAR
VERSION:2.0
PRODID:-//Plone.org//NONSGML plone.app.event//EN
X-WR-TIMEZONE:Europe/Madrid
BEGIN:VEVENT
SUMMARY:Curs de DJ
DTSTART;TZID=Europe/Madrid;VALUE=DATE-TIME:20141127T180000
DTEND;TZID=Europe/Madrid;VALUE=DATE-TIME:20141127T190000
DTSTAMP;VALUE=DATE-TIME:20260426T004614Z
UID:8b3fef7de10c48b00af4ef9d8b4d75d3
CREATED;VALUE=DATE-TIME:20141127T000000Z
ORGANIZER:Espai Jove
COMMENT:Preu: Gratuït
Durada: De 18-20h
DESCRIPTION:4 sessions i una actuació final
URL:https://caldetes.cat/document.php?id=3366
END:VEVENT
END:VCALENDAR