BEGIN:VCALENDAR
VERSION:2.0
PRODID:-//Plone.org//NONSGML plone.app.event//EN
X-WR-TIMEZONE:Europe/Madrid
BEGIN:VEVENT
SUMMARY:Taller de moviment i relaxació
DTSTART;TZID=Europe/Madrid;VALUE=DATE-TIME:20141124T113000
DTEND;TZID=Europe/Madrid;VALUE=DATE-TIME:20141124T123000
DTSTAMP;VALUE=DATE-TIME:20260421T161107Z
UID:0b3c86c7f6a9b129d8a2468f66c958da
CREATED;VALUE=DATE-TIME:20141124T000000Z
CATEGORIES:Cursos
LOCATION:Casal d'Avis
ORGANIZER:Serveis Socials (Ajuntament de Caldes d'Estrac)
COMMENT:Preu: Gratuït
Durada: de 11:30 a 12:15
DESCRIPTION:A càrrec de Gloria Roca
URL:https://caldetes.cat/document.php?id=3375
END:VEVENT
END:VCALENDAR