BEGIN:VCALENDAR
VERSION:2.0
PRODID:-//Plone.org//NONSGML plone.app.event//EN
X-WR-TIMEZONE:Europe/Madrid
BEGIN:VEVENT
SUMMARY:Hora del conte: "El millor regal del món"
DTSTART;TZID=Europe/Madrid;VALUE=DATE-TIME:20141212T173000
DTEND;TZID=Europe/Madrid;VALUE=DATE-TIME:20141212T183000
DTSTAMP;VALUE=DATE-TIME:20260426T024541Z
UID:acb911245c662c39950ce7f10ec3c0f8
CREATED;VALUE=DATE-TIME:20141212T000000Z
CATEGORIES:Literatura,Infantils
LOCATION:Biblioteca Can Milans
ORGANIZER:Biblioteca Can Milans
DESCRIPTION:Sessió amb Teatrí d´ombres a càrrec de Rondallaire
URL:https://caldetes.cat/document.php?id=3448
END:VEVENT
END:VCALENDAR