BEGIN:VCALENDAR
VERSION:2.0
PRODID:-//Plone.org//NONSGML plone.app.event//EN
X-WR-TIMEZONE:Europe/Madrid
BEGIN:VEVENT
SUMMARY:Taller informática
DTSTART;TZID=Europe/Madrid;VALUE=DATE-TIME:20150205T110000
DTEND;TZID=Europe/Madrid;VALUE=DATE-TIME:20150205T120000
DTSTAMP;VALUE=DATE-TIME:20260421T225351Z
UID:f06912785f56142e70318b17f71e8190
CREATED;VALUE=DATE-TIME:20150205T000000Z
LOCATION:Casal d'Avis
COMMENT:Preu: Gratuït
Durada: d'11 a 13h
DESCRIPTION:Per a Gent Gran
URL:https://caldetes.cat/document.php?id=3465
END:VEVENT
END:VCALENDAR