BEGIN:VCALENDAR
VERSION:2.0
PRODID:-//Plone.org//NONSGML plone.app.event//EN
X-WR-TIMEZONE:Europe/Madrid
BEGIN:VEVENT
SUMMARY:Taller informática
DTSTART;TZID=Europe/Madrid;VALUE=DATE-TIME:20150212T110000
DTEND;TZID=Europe/Madrid;VALUE=DATE-TIME:20150212T120000
DTSTAMP;VALUE=DATE-TIME:20260423T020305Z
UID:18f4c0f3862f2a34e41114781c3dd290
CREATED;VALUE=DATE-TIME:20150212T000000Z
LOCATION:Casal d'Avis
COMMENT:Preu: Gratuït
Durada: d'11 a 13h
DESCRIPTION:Per a Gent Gran
URL:https://caldetes.cat/document.php?id=3466
END:VEVENT
END:VCALENDAR