BEGIN:VCALENDAR
VERSION:2.0
PRODID:-//Plone.org//NONSGML plone.app.event//EN
X-WR-TIMEZONE:Europe/Madrid
BEGIN:VEVENT
SUMMARY:Relaxació: Beneficis psíquics i físics
DTSTART;TZID=Europe/Madrid;VALUE=DATE-TIME:20150216T110000
DTEND;TZID=Europe/Madrid;VALUE=DATE-TIME:20150216T120000
DTSTAMP;VALUE=DATE-TIME:20260422T202205Z
UID:a726af69f85e29275425b00ff9e04cbf
CREATED;VALUE=DATE-TIME:20150216T000000Z
CATEGORIES:Esports
LOCATION:Casal d'Avis - Agrupació de pensionistes 3ª edat
ORGANIZER:Àrea de Serveis Socials- Caldes d'Estrac
COMMENT:Preu: Gratuït
Durada: d'11 a 13h
DESCRIPTION:Diferents tècniques
URL:https://caldetes.cat/document.php?id=3477
END:VEVENT
END:VCALENDAR