BEGIN:VCALENDAR
VERSION:2.0
PRODID:-//Plone.org//NONSGML plone.app.event//EN
X-WR-TIMEZONE:Europe/Madrid
BEGIN:VEVENT
SUMMARY:Relaxació: Beneficis psíquics i físics
DTSTART;TZID=Europe/Madrid;VALUE=DATE-TIME:20150316T110000
DTEND;TZID=Europe/Madrid;VALUE=DATE-TIME:20150316T120000
DTSTAMP;VALUE=DATE-TIME:20260422T225705Z
UID:bf5ea8465a29f9d59992ead2aeee189a
CREATED;VALUE=DATE-TIME:20150316T000000Z
CATEGORIES:Esports
LOCATION:Casal d'Avis - Agrupació de pensionistes 3ª edat
ORGANIZER:Àrea de Serveis Socials- Caldes d'Estrac
COMMENT:Preu: Gratuït
Durada: d'11 a 13h
DESCRIPTION:Diferents tècniques
URL:https://caldetes.cat/document.php?id=3481
END:VEVENT
END:VCALENDAR