BEGIN:VCALENDAR
VERSION:2.0
PRODID:-//Plone.org//NONSGML plone.app.event//EN
X-WR-TIMEZONE:Europe/Madrid
BEGIN:VEVENT
SUMMARY:Missa Solemne de Santa Llúcia
DTSTART;TZID=Europe/Madrid;VALUE=DATE-TIME:20141213T120000
DTEND;TZID=Europe/Madrid;VALUE=DATE-TIME:20141213T130000
DTSTAMP;VALUE=DATE-TIME:20260421T005736Z
UID:56e26f9a730a43d2a13235d3159a9330
CREATED;VALUE=DATE-TIME:20141213T000000Z
LOCATION:Parròquia Santa Maria
ORGANIZER:Parròquia de Santa Maria
DESCRIPTION:Presideix Pare Jesús Romero.
URL:https://caldetes.cat/document.php?id=3486
END:VEVENT
END:VCALENDAR