BEGIN:VCALENDAR
VERSION:2.0
PRODID:-//Plone.org//NONSGML plone.app.event//EN
X-WR-TIMEZONE:Europe/Madrid
BEGIN:VEVENT
SUMMARY:Inauguració del Mirador del Drac de Caldes (Astaroth)
DTSTART;TZID=Europe/Madrid;VALUE=DATE-TIME:20141213T183000
DTEND;TZID=Europe/Madrid;VALUE=DATE-TIME:20141213T193000
DTSTAMP;VALUE=DATE-TIME:20260423T173812Z
UID:25182b07fe09779565452230fdd7543a
CREATED;VALUE=DATE-TIME:20141213T000000Z
LOCATION:Plaça de Sant Antoni
COMMENT:Durada: A partir de 18:30h
DESCRIPTION:Tot seguit Correfoc
URL:https://caldetes.cat/document.php?id=3487
END:VEVENT
END:VCALENDAR