BEGIN:VCALENDAR
VERSION:2.0
PRODID:-//Plone.org//NONSGML plone.app.event//EN
X-WR-TIMEZONE:Europe/Madrid
BEGIN:VEVENT
SUMMARY:Recital de poesia i música de la nostra terra
DTSTART;TZID=Europe/Madrid;VALUE=DATE-TIME:20141219T200000
DTEND;TZID=Europe/Madrid;VALUE=DATE-TIME:20141219T210000
DTSTAMP;VALUE=DATE-TIME:20260419T234116Z
UID:6aa3db5aacedb8002d695b8b3abfe14f
CREATED;VALUE=DATE-TIME:20141219T000000Z
CATEGORIES:Literatura
LOCATION:Sala Cultural
ORGANIZER:Agrupació de Pensionistes i Tercera Edat de Caldes d'Estrac
COMMENT:Preu: Gratuït
URL:https://caldetes.cat/document.php?id=3505
END:VEVENT
END:VCALENDAR