BEGIN:VCALENDAR
VERSION:2.0
PRODID:-//Plone.org//NONSGML plone.app.event//EN
X-WR-TIMEZONE:Europe/Madrid
BEGIN:VEVENT
SUMMARY:Segon taller participatiu sobre el POUM
DTSTART;TZID=Europe/Madrid;VALUE=DATE-TIME:20150306T190000
DTEND;TZID=Europe/Madrid;VALUE=DATE-TIME:20150306T200000
DTSTAMP;VALUE=DATE-TIME:20260424T095212Z
UID:079ab73ce5c076c7413642cfdf6b6e1c
CREATED;VALUE=DATE-TIME:20150306T000000Z
LOCATION:L'Equipament (La Fabriqueta)
ORGANIZER:Ajuntament de Caldes d'Estrac amb el suport de la Diputació de Barcelona
COMMENT:Durada: 19:30 -21h
DESCRIPTION:S'abordarà el model d'ordenació
URL:https://caldetes.cat/document.php?id=3537
END:VEVENT
END:VCALENDAR