BEGIN:VCALENDAR
VERSION:2.0
PRODID:-//Plone.org//NONSGML plone.app.event//EN
X-WR-TIMEZONE:Europe/Madrid
BEGIN:VEVENT
SUMMARY:Espectacle de narració oral i ombres xinesques: "Allà on viuen els monstres"
DTSTART;TZID=Europe/Madrid;VALUE=DATE-TIME:20150213T180000
DTEND;TZID=Europe/Madrid;VALUE=DATE-TIME:20150213T190000
DTSTAMP;VALUE=DATE-TIME:20260421T173826Z
UID:3d41c4d37ad982c9bbabb1ec1f1bab01
CREATED;VALUE=DATE-TIME:20150213T000000Z
CATEGORIES:Literatura,Infantils
LOCATION:Biblioteca Can Milans
ORGANIZER:Biblioteca Can Milans
DESCRIPTION:A càrrec de Sherezade
URL:https://caldetes.cat/document.php?id=3553
END:VEVENT
END:VCALENDAR