BEGIN:VCALENDAR
VERSION:2.0
PRODID:-//Plone.org//NONSGML plone.app.event//EN
X-WR-TIMEZONE:Europe/Madrid
BEGIN:VEVENT
SUMMARY:Trobada del Club de lectura
DTSTART;TZID=Europe/Madrid;VALUE=DATE-TIME:20150214T110000
DTEND;TZID=Europe/Madrid;VALUE=DATE-TIME:20150214T120000
DTSTAMP;VALUE=DATE-TIME:20260425T231052Z
UID:a20d7241b60f5a4d9a8968b0077aa62f
CREATED;VALUE=DATE-TIME:20150214T000000Z
CATEGORIES:Literatura
LOCATION:Biblioteca Can Milans
ORGANIZER:Biblioteca Can Milans
DESCRIPTION:La lladre de llibres. De Markus Zusak
URL:https://caldetes.cat/document.php?id=3554
END:VEVENT
END:VCALENDAR