BEGIN:VCALENDAR
VERSION:2.0
PRODID:-//Plone.org//NONSGML plone.app.event//EN
X-WR-TIMEZONE:Europe/Madrid
BEGIN:VEVENT
SUMMARY:Sessió Pública Informativa
DTSTART;TZID=Europe/Madrid;VALUE=DATE-TIME:20150131T180000
DTEND;TZID=Europe/Madrid;VALUE=DATE-TIME:20150131T190000
DTSTAMP;VALUE=DATE-TIME:20260422T105924Z
UID:008545b47576a221812fb6a9a89b7bce
CREATED;VALUE=DATE-TIME:20150131T000000Z
LOCATION:L'Equipament (La Fabriqueta)
ORGANIZER:Ajuntament de Caldes d'Estrac
DESCRIPTION:Vine, pregunta i opina
URL:https://caldetes.cat/document.php?id=3555
END:VEVENT
END:VCALENDAR