BEGIN:VCALENDAR
VERSION:2.0
PRODID:-//Plone.org//NONSGML plone.app.event//EN
X-WR-TIMEZONE:Europe/Madrid
BEGIN:VEVENT
SUMMARY:Construïm el rei carnestoltes
DTSTART;TZID=Europe/Madrid;VALUE=DATE-TIME:20150209T170000
DTEND;TZID=Europe/Madrid;VALUE=DATE-TIME:20150209T180000
DTSTAMP;VALUE=DATE-TIME:20260421T202001Z
UID:300087d5157fccb6d12de12a5c71dcd9
CREATED;VALUE=DATE-TIME:20150209T000000Z
LOCATION:Espai Jove
ORGANIZER:Àrea de Joventut-Ajuntament Caldes d´Estrac
COMMENT:Preu: Gratuït
Durada: 17h-20h
DESCRIPTION:Participa (Del 9 a l'11 de febrer)
URL:https://caldetes.cat/document.php?id=3558
END:VEVENT
END:VCALENDAR