BEGIN:VCALENDAR
VERSION:2.0
PRODID:-//Plone.org//NONSGML plone.app.event//EN
X-WR-TIMEZONE:Europe/Madrid
BEGIN:VEVENT
SUMMARY:Rua de Carnestoltes
DTSTART;TZID=Europe/Madrid;VALUE=DATE-TIME:20150213T100000
DTEND;TZID=Europe/Madrid;VALUE=DATE-TIME:20150213T110000
DTSTAMP;VALUE=DATE-TIME:20260423T075029Z
UID:03beefb58b34689a016a220afc711c0c
CREATED;VALUE=DATE-TIME:20150213T000000Z
COMMENT:Preu: Gratuït
Durada: A partir de les 10h
DESCRIPTION:Rua infantil i rua del "Sortim de Casa"
URL:https://caldetes.cat/document.php?id=3562
END:VEVENT
END:VCALENDAR