BEGIN:VCALENDAR
VERSION:2.0
PRODID:-//Plone.org//NONSGML plone.app.event//EN
X-WR-TIMEZONE:Europe/Madrid
BEGIN:VEVENT
SUMMARY:Carnaval infantil
DTSTART;TZID=Europe/Madrid;VALUE=DATE-TIME:20150215T180000
DTEND;TZID=Europe/Madrid;VALUE=DATE-TIME:20150215T190000
DTSTAMP;VALUE=DATE-TIME:20260422T040752Z
UID:c4c2c1025f9f190786bd8d6055e36ea8
CREATED;VALUE=DATE-TIME:20150215T000000Z
LOCATION:Sala Cultural
DESCRIPTION:Amb Grup d'Animació Infantil
URL:https://caldetes.cat/document.php?id=3564
END:VEVENT
END:VCALENDAR