BEGIN:VCALENDAR
VERSION:2.0
PRODID:-//Plone.org//NONSGML plone.app.event//EN
X-WR-TIMEZONE:Europe/Madrid
BEGIN:VEVENT
SUMMARY:Carnestoltes
DTSTART;TZID=Europe/Madrid;VALUE=DATE-TIME:20150218T200000
DTEND;TZID=Europe/Madrid;VALUE=DATE-TIME:20150218T210000
DTSTAMP;VALUE=DATE-TIME:20260423T185900Z
UID:deeaa44936e15bbd51ecc374d9bf0be3
CREATED;VALUE=DATE-TIME:20150218T000000Z
LOCATION:Esplanada Can Muntanyà
ORGANIZER:Organitza Ajuntament de Caldes d´ Estrac Col&bull;labora Associació de Pescadors
COMMENT:Durada: A partir de les 20h
DESCRIPTION:Crema de Sa Majestat Carnestoltes i Sardinada Popular
URL:https://caldetes.cat/document.php?id=3565
END:VEVENT
END:VCALENDAR