BEGIN:VCALENDAR
VERSION:2.0
PRODID:-//Plone.org//NONSGML plone.app.event//EN
X-WR-TIMEZONE:Europe/Madrid
BEGIN:VEVENT
SUMMARY:Dinar de Carmanyola - Banc del Temps de Caldes
DTSTART;TZID=Europe/Madrid;VALUE=DATE-TIME:20150207T104500
DTEND;TZID=Europe/Madrid;VALUE=DATE-TIME:20150207T114500
DTSTAMP;VALUE=DATE-TIME:20260421T113756Z
UID:e014ff63c68f93c360277282bfdfee74
CREATED;VALUE=DATE-TIME:20150207T000000Z
CATEGORIES:Festa
LOCATION:Sala Cultural
ORGANIZER:Banc del Temps de Caldetes
DESCRIPTION:Quedada amb banquers i banqueres del Masnou i Barcelona.
URL:https://caldetes.cat/document.php?id=3598
END:VEVENT
END:VCALENDAR