BEGIN:VCALENDAR
VERSION:2.0
PRODID:-//Plone.org//NONSGML plone.app.event//EN
X-WR-TIMEZONE:Europe/Madrid
BEGIN:VEVENT
SUMMARY:Hora del conte: "Contes florits. Un jardí de contes"
DTSTART;TZID=Europe/Madrid;VALUE=DATE-TIME:20150313T180000
DTEND;TZID=Europe/Madrid;VALUE=DATE-TIME:20150313T190000
DTSTAMP;VALUE=DATE-TIME:20260422T140111Z
UID:fc46c64417db8d8c6f5137fbe898bb92
CREATED;VALUE=DATE-TIME:20150313T000000Z
CATEGORIES:Literatura,Infantils
LOCATION:Biblioteca Can Milans
ORGANIZER:Biblioteca Can Milans
DESCRIPTION:A càrrec d'Ulldistret
URL:https://caldetes.cat/document.php?id=3600
END:VEVENT
END:VCALENDAR