BEGIN:VCALENDAR
VERSION:2.0
PRODID:-//Plone.org//NONSGML plone.app.event//EN
X-WR-TIMEZONE:Europe/Madrid
BEGIN:VEVENT
SUMMARY:Conferència: "Tinc un fill adolescent"
DTSTART;TZID=Europe/Madrid;VALUE=DATE-TIME:20150320T180000
DTEND;TZID=Europe/Madrid;VALUE=DATE-TIME:20150320T190000
DTSTAMP;VALUE=DATE-TIME:20260423T162449Z
UID:889f0c95f73f216478a307f4f9f39f6c
CREATED;VALUE=DATE-TIME:20150320T000000Z
CATEGORIES:Conferència
LOCATION:Biblioteca Can Milans
ORGANIZER:Biblioteca Can Milans
COMMENT:Preu: Gratuït
DESCRIPTION:A càrrec de Meritxell Almirall
URL:https://caldetes.cat/document.php?id=3601
END:VEVENT
END:VCALENDAR