BEGIN:VCALENDAR
VERSION:2.0
PRODID:-//Plone.org//NONSGML plone.app.event//EN
X-WR-TIMEZONE:Europe/Madrid
BEGIN:VEVENT
SUMMARY:Presentació de la Proposta de Projecte per a la Millora Integral de les platges
DTSTART;TZID=Europe/Madrid;VALUE=DATE-TIME:20150223T180000
DTEND;TZID=Europe/Madrid;VALUE=DATE-TIME:20150223T190000
DTSTAMP;VALUE=DATE-TIME:20260422T043222Z
UID:e8e3d2b899a7b5db99ed1d873c430b58
CREATED;VALUE=DATE-TIME:20150223T000000Z
CATEGORIES:Conferència
LOCATION:Sala Cultural
ORGANIZER:Ajuntament de Caldes d'Estrac amb el suport de la Diputació de Barcelona
COMMENT:Preu: Gratuït
DESCRIPTION:A càrrec de Ramon Riera, Diputat de Turisme de la Diputació de Barcelona
URL:https://caldetes.cat/document.php?id=3611
END:VEVENT
END:VCALENDAR