BEGIN:VCALENDAR
VERSION:2.0
PRODID:-//Plone.org//NONSGML plone.app.event//EN
X-WR-TIMEZONE:Europe/Madrid
BEGIN:VEVENT
SUMMARY:Reunió informativa
DTSTART;TZID=Europe/Madrid;VALUE=DATE-TIME:20150227T200000
DTEND;TZID=Europe/Madrid;VALUE=DATE-TIME:20150227T210000
DTSTAMP;VALUE=DATE-TIME:20260423T033737Z
UID:d661c07c3a6840beb95681b3f09b47a7
CREATED;VALUE=DATE-TIME:20150227T000000Z
CATEGORIES:Conferència
LOCATION:Sala Cultural
ORGANIZER:Ajuntament de Caldes d'Estrac
DESCRIPTION:Dirigida a tots els abonats a la TV per Cable
URL:https://caldetes.cat/document.php?id=3624
END:VEVENT
END:VCALENDAR