BEGIN:VCALENDAR
VERSION:2.0
PRODID:-//Plone.org//NONSGML plone.app.event//EN
X-WR-TIMEZONE:Europe/Madrid
BEGIN:VEVENT
SUMMARY:Fes el teu teatret!
DTSTART;TZID=Europe/Madrid;VALUE=DATE-TIME:20150222T113000
DTEND;TZID=Europe/Madrid;VALUE=DATE-TIME:20150222T123000
DTSTAMP;VALUE=DATE-TIME:20260422T164303Z
UID:60401574901bc67d3bf0e76f36471881
CREATED;VALUE=DATE-TIME:20150222T000000Z
CATEGORIES:Infantils
LOCATION:Fundació Palau
ORGANIZER:Fundació Palau i Ajuntament de Caldes d'Estrac
COMMENT:Preu: 3 euros per nen
DESCRIPTION:Els diumenges de la Fundació Palau
URL:https://caldetes.cat/document.php?id=3625
END:VEVENT
END:VCALENDAR