BEGIN:VCALENDAR
VERSION:2.0
PRODID:-//Plone.org//NONSGML plone.app.event//EN
X-WR-TIMEZONE:Europe/Madrid
BEGIN:VEVENT
SUMMARY:El conte de Roc el Ruc
DTSTART;TZID=Europe/Madrid;VALUE=DATE-TIME:20150315T113000
DTEND;TZID=Europe/Madrid;VALUE=DATE-TIME:20150315T123000
DTSTAMP;VALUE=DATE-TIME:20260422T181125Z
UID:b700cbf13eb3edaeb4ac15656c7b5934
CREATED;VALUE=DATE-TIME:20150315T000000Z
CATEGORIES:Infantils
LOCATION:Fundació Palau
ORGANIZER:Fundació Palau i Ajuntament de Caldes d'Estrac
COMMENT:Preu: 3 euros per persona
DESCRIPTION:Els diumenges de la Fundació Palau
URL:https://caldetes.cat/document.php?id=3627
END:VEVENT
END:VCALENDAR