BEGIN:VCALENDAR
VERSION:2.0
PRODID:-//Plone.org//NONSGML plone.app.event//EN
X-WR-TIMEZONE:Europe/Madrid
BEGIN:VEVENT
SUMMARY:Fes la teva mona de Pasqua!
DTSTART;TZID=Europe/Madrid;VALUE=DATE-TIME:20150405T110000
DTEND;TZID=Europe/Madrid;VALUE=DATE-TIME:20150405T120000
DTSTAMP;VALUE=DATE-TIME:20260425T211800Z
UID:e3f37b92265f3b393544c5fe6bf7145b
CREATED;VALUE=DATE-TIME:20150405T000000Z
CATEGORIES:Infantils
LOCATION:Fundació Palau
ORGANIZER:Fundació Palau i Ajuntament de Caldes d'Estrac
COMMENT:Preu: 5 euros per nen
DESCRIPTION:Els diumenges de la Fundació Palau
URL:https://caldetes.cat/document.php?id=3628
END:VEVENT
END:VCALENDAR