BEGIN:VCALENDAR
VERSION:2.0
PRODID:-//Plone.org//NONSGML plone.app.event//EN
X-WR-TIMEZONE:Europe/Madrid
BEGIN:VEVENT
SUMMARY:Conferència
DTSTART;TZID=Europe/Madrid;VALUE=DATE-TIME:20150325T170000
DTEND;TZID=Europe/Madrid;VALUE=DATE-TIME:20150325T180000
DTSTAMP;VALUE=DATE-TIME:20260423T062100Z
UID:4df4c6b777ef891a68005b4ee4ee37ff
CREATED;VALUE=DATE-TIME:20150325T000000Z
CATEGORIES:Conferència
LOCATION:L'Equipament (La Fabriqueta)
ORGANIZER:Ajuntament de Caldes d'Estrac - Àrea de Serveis Socials
COMMENT:Preu: Gratuït
DESCRIPTION:"Culpes, les justes"
URL:https://caldetes.cat/document.php?id=3629
END:VEVENT
END:VCALENDAR