BEGIN:VCALENDAR
VERSION:2.0
PRODID:-//Plone.org//NONSGML plone.app.event//EN
X-WR-TIMEZONE:Europe/Madrid
BEGIN:VEVENT
SUMMARY:Taller de roses de Sant Jordi
DTSTART;TZID=Europe/Madrid;VALUE=DATE-TIME:20150304T170000
DTEND;TZID=Europe/Madrid;VALUE=DATE-TIME:20150304T180000
DTSTAMP;VALUE=DATE-TIME:20260423T115944Z
UID:895200c3be96c44782234460dcd8788c
CREATED;VALUE=DATE-TIME:20150304T000000Z
ORGANIZER:Ajuntament de Caldes d'Estrac - Àrea de Serveis Socials
COMMENT:Preu: Gratuït
Durada: De 17h a 19h
DESCRIPTION:A càrrec de Pilar del Vilar
URL:https://caldetes.cat/document.php?id=3630
END:VEVENT
END:VCALENDAR