BEGIN:VCALENDAR
VERSION:2.0
PRODID:-//Plone.org//NONSGML plone.app.event//EN
X-WR-TIMEZONE:Europe/Madrid
BEGIN:VEVENT
SUMMARY:Taller de roses de Sant Jordi
DTSTART;TZID=Europe/Madrid;VALUE=DATE-TIME:20150311T170000
DTEND;TZID=Europe/Madrid;VALUE=DATE-TIME:20150311T180000
DTSTAMP;VALUE=DATE-TIME:20260423T074427Z
UID:1588148971fc8ae831fc69d837025714
CREATED;VALUE=DATE-TIME:20150311T000000Z
LOCATION:L'Equipament (La Fabriqueta)
ORGANIZER:Ajuntament de Caldes d'Estrac - Àrea de Serveis Socials
COMMENT:Preu: Gratuït
Durada: De 17h a 19h
DESCRIPTION:A càrrec de Pilar del Vilar
URL:https://caldetes.cat/document.php?id=3631
END:VEVENT
END:VCALENDAR