BEGIN:VCALENDAR
VERSION:2.0
PRODID:-//Plone.org//NONSGML plone.app.event//EN
X-WR-TIMEZONE:Europe/Madrid
BEGIN:VEVENT
SUMMARY:Taller de roses de Sant Jordi
DTSTART;TZID=Europe/Madrid;VALUE=DATE-TIME:20150401T170000
DTEND;TZID=Europe/Madrid;VALUE=DATE-TIME:20150401T180000
DTSTAMP;VALUE=DATE-TIME:20260423T061745Z
UID:8af7dcf921de5bf9c86fe8067c38006e
CREATED;VALUE=DATE-TIME:20150401T000000Z
LOCATION:L'Equipament (La Fabriqueta)
ORGANIZER:Ajuntament de Caldes d'Estrac - Àrea de Serveis Socials
COMMENT:Preu: Gratuït
Durada: De 17h a 19h
DESCRIPTION:A càrrec de Pilar del Vilar
URL:https://caldetes.cat/document.php?id=3633
END:VEVENT
END:VCALENDAR