BEGIN:VCALENDAR
VERSION:2.0
PRODID:-//Plone.org//NONSGML plone.app.event//EN
X-WR-TIMEZONE:Europe/Madrid
BEGIN:VEVENT
SUMMARY:Taller de roses de Sant Jordi
DTSTART;TZID=Europe/Madrid;VALUE=DATE-TIME:20150415T170000
DTEND;TZID=Europe/Madrid;VALUE=DATE-TIME:20150415T180000
DTSTAMP;VALUE=DATE-TIME:20260421T095320Z
UID:d6f615db786feef49c675cfd6af03b54
CREATED;VALUE=DATE-TIME:20150415T000000Z
LOCATION:L'Equipament (La Fabriqueta)
ORGANIZER:Ajuntament de Caldes d'Estrac - Àrea de Serveis Socials
COMMENT:Preu: Gratuït
Durada: De 17h a 19h
DESCRIPTION:A càrrec de Pilar del Vilar
URL:https://caldetes.cat/document.php?id=3635
END:VEVENT
END:VCALENDAR