BEGIN:VCALENDAR
VERSION:2.0
PRODID:-//Plone.org//NONSGML plone.app.event//EN
X-WR-TIMEZONE:Europe/Madrid
BEGIN:VEVENT
SUMMARY:Construcció de diorames del Concurs Playmobil
DTSTART;TZID=Europe/Madrid;VALUE=DATE-TIME:20150328T100000
DTEND;TZID=Europe/Madrid;VALUE=DATE-TIME:20150328T110000
DTSTAMP;VALUE=DATE-TIME:20260422T164234Z
UID:c302990b4e0925e333c5d62c92356583
CREATED;VALUE=DATE-TIME:20150328T000000Z
CATEGORIES:Exposició
LOCATION:Sala Cultural
ORGANIZER:Clicksparty i Ajuntament de Caldes d'Estrac
COMMENT:Durada: Dies 28 i 29 de març ( de 10 a 14h i de 17 a 20h)
URL:https://caldetes.cat/document.php?id=3638
END:VEVENT
END:VCALENDAR