BEGIN:VCALENDAR
VERSION:2.0
PRODID:-//Plone.org//NONSGML plone.app.event//EN
X-WR-TIMEZONE:Europe/Madrid
BEGIN:VEVENT
SUMMARY:Construcció de diorames del Concurs Playmobil
DTSTART;TZID=Europe/Madrid;VALUE=DATE-TIME:20150329T100000
DTEND;TZID=Europe/Madrid;VALUE=DATE-TIME:20150329T110000
DTSTAMP;VALUE=DATE-TIME:20260426T033655Z
UID:9c0cff56c7884ebbe1fd2a1e2187e97c
CREATED;VALUE=DATE-TIME:20150329T000000Z
CATEGORIES:Exposició
LOCATION:Sala Cultural
ORGANIZER:Clicksparty i Ajuntament de Caldes d'Estrac
COMMENT:Durada: Dies 28 i 29 de març ( de 10 a 14h i de 17 a 20h)
URL:https://caldetes.cat/document.php?id=3639
END:VEVENT
END:VCALENDAR