BEGIN:VCALENDAR
VERSION:2.0
PRODID:-//Plone.org//NONSGML plone.app.event//EN
X-WR-TIMEZONE:Europe/Madrid
BEGIN:VEVENT
SUMMARY:Jornades gastronòmiques del Pèsol
DTSTART;TZID=Europe/Madrid;VALUE=DATE-TIME:20150312T193000
DTEND;TZID=Europe/Madrid;VALUE=DATE-TIME:20150312T203000
DTSTAMP;VALUE=DATE-TIME:20260421T005821Z
UID:1e63a47d1cd2bd7c22b4b9e248f7f76f
CREATED;VALUE=DATE-TIME:20150312T000000Z
LOCATION:Sala Cultural
COMMENT:Durada: A partir de les 19:30h
DESCRIPTION:Acte d'inauguració
URL:https://caldetes.cat/document.php?id=3640
END:VEVENT
END:VCALENDAR