BEGIN:VCALENDAR
VERSION:2.0
PRODID:-//Plone.org//NONSGML plone.app.event//EN
X-WR-TIMEZONE:Europe/Madrid
BEGIN:VEVENT
SUMMARY:Inauguració Exposició Col.lectiva
DTSTART;TZID=Europe/Madrid;VALUE=DATE-TIME:20150307T190000
DTEND;TZID=Europe/Madrid;VALUE=DATE-TIME:20150307T200000
DTSTAMP;VALUE=DATE-TIME:20260422T153114Z
UID:c4df6d2b78cfd46b27bf05ace8a86e31
CREATED;VALUE=DATE-TIME:20150307T000000Z
CATEGORIES:Exposició
LOCATION:L'Equipament (La Fabriqueta)
COMMENT:Durada: Del 7 al 20 de març
DESCRIPTION:"La Mar"
URL:https://caldetes.cat/document.php?id=3641
END:VEVENT
END:VCALENDAR