BEGIN:VCALENDAR
VERSION:2.0
PRODID:-//Plone.org//NONSGML plone.app.event//EN
X-WR-TIMEZONE:Europe/Madrid
BEGIN:VEVENT
SUMMARY:Inauguració Exposició Col.lectiva
DTSTART;TZID=Europe/Madrid;VALUE=DATE-TIME:20150321T000000
DTEND;TZID=Europe/Madrid;VALUE=DATE-TIME:20150321T010000
DTSTAMP;VALUE=DATE-TIME:20260420T051250Z
UID:86dde1c9da5bc5b93f1651000cd8a56d
CREATED;VALUE=DATE-TIME:20150321T000000Z
CATEGORIES:Exposició
LOCATION:L'Equipament (La Fabriqueta)
COMMENT:Durada: Del 21 de març al 18 d'abril
DESCRIPTION:3+1 Visions
URL:https://caldetes.cat/document.php?id=3642
END:VEVENT
END:VCALENDAR