BEGIN:VCALENDAR
VERSION:2.0
PRODID:-//Plone.org//NONSGML plone.app.event//EN
X-WR-TIMEZONE:Europe/Madrid
BEGIN:VEVENT
SUMMARY:Taller de  Musicoteràpia
DTSTART;TZID=Europe/Madrid;VALUE=DATE-TIME:20150324T110000
DTEND;TZID=Europe/Madrid;VALUE=DATE-TIME:20150324T120000
DTSTAMP;VALUE=DATE-TIME:20260421T144426Z
UID:7970e20169c7cf9c24676654c045f26d
CREATED;VALUE=DATE-TIME:20150324T000000Z
CATEGORIES:Cursos
LOCATION:Casal d'Avis - Agrupació de pensionistes 3ª edat
ORGANIZER:Ajuntament de Caldes d'Estrac - Àrea de Serveis Socials
COMMENT:Preu: Gratuït
Durada: d'11 a 13h
DESCRIPTION:A càrrec de Marina Serra (músicoterapeuta)
URL:https://caldetes.cat/document.php?id=3644
END:VEVENT
END:VCALENDAR