BEGIN:VCALENDAR
VERSION:2.0
PRODID:-//Plone.org//NONSGML plone.app.event//EN
X-WR-TIMEZONE:Europe/Madrid
BEGIN:VEVENT
SUMMARY:Taller de  Musicoteràpia
DTSTART;TZID=Europe/Madrid;VALUE=DATE-TIME:20150512T110000
DTEND;TZID=Europe/Madrid;VALUE=DATE-TIME:20150512T120000
DTSTAMP;VALUE=DATE-TIME:20260421T080759Z
UID:a1f4232d954fd50e18fbfbd6b16ad53f
CREATED;VALUE=DATE-TIME:20150512T000000Z
CATEGORIES:Cursos
LOCATION:Casal d'Avis - Agrupació de pensionistes 3ª edat
ORGANIZER:Ajuntament de Caldes d'Estrac - Àrea de Serveis Socials
COMMENT:Preu: Gratuït
Durada: d'11 a 13h
DESCRIPTION:A càrrec de Marina Serra (músicoterapeuta)
URL:https://caldetes.cat/document.php?id=3651
END:VEVENT
END:VCALENDAR