BEGIN:VCALENDAR
VERSION:2.0
PRODID:-//Plone.org//NONSGML plone.app.event//EN
X-WR-TIMEZONE:Europe/Madrid
BEGIN:VEVENT
SUMMARY:Taller de  Musicoteràpia
DTSTART;TZID=Europe/Madrid;VALUE=DATE-TIME:20150519T110000
DTEND;TZID=Europe/Madrid;VALUE=DATE-TIME:20150519T120000
DTSTAMP;VALUE=DATE-TIME:20260421T095206Z
UID:d2efaa5f14183e04b9c40c658058eb66
CREATED;VALUE=DATE-TIME:20150519T000000Z
CATEGORIES:Cursos
LOCATION:Casal d'Avis - Agrupació de pensionistes 3ª edat
ORGANIZER:Ajuntament de Caldes d'Estrac - Àrea de Serveis Socials
COMMENT:Preu: Gratuït
Durada: d'11 a 13h
DESCRIPTION:A càrrec de Marina Serra (músicoterapeuta)
URL:https://caldetes.cat/document.php?id=3652
END:VEVENT
END:VCALENDAR