BEGIN:VCALENDAR
VERSION:2.0
PRODID:-//Plone.org//NONSGML plone.app.event//EN
X-WR-TIMEZONE:Europe/Madrid
BEGIN:VEVENT
SUMMARY:Exposició
DTSTART;TZID=Europe/Madrid;VALUE=DATE-TIME:20150311T144300
DTEND;TZID=Europe/Madrid;VALUE=DATE-TIME:20150311T154300
DTSTAMP;VALUE=DATE-TIME:20260421T005751Z
UID:e9fdb6219a461f0a201be760bffc3714
CREATED;VALUE=DATE-TIME:20150311T000000Z
DESCRIPTION:Visió Fragmentada del quadre "11 de Setembre" d'Antoni Estruch
URL:https://caldetes.cat/document.php?id=3679
END:VEVENT
END:VCALENDAR