BEGIN:VCALENDAR
VERSION:2.0
PRODID:-//Plone.org//NONSGML plone.app.event//EN
X-WR-TIMEZONE:Europe/Madrid
BEGIN:VEVENT
SUMMARY:Trobada del Club de lectura
DTSTART;TZID=Europe/Madrid;VALUE=DATE-TIME:20150411T110000
DTEND;TZID=Europe/Madrid;VALUE=DATE-TIME:20150411T120000
DTSTAMP;VALUE=DATE-TIME:20260421T034546Z
UID:f75158fb8a0784ebb044d8659153b26b
CREATED;VALUE=DATE-TIME:20150411T000000Z
CATEGORIES:Literatura
LOCATION:Biblioteca Can Milans
ORGANIZER:Biblioteca Can Milans
DESCRIPTION:"Como agua para Chocolate" de Laura Esquivel
URL:https://caldetes.cat/document.php?id=3683
END:VEVENT
END:VCALENDAR